BEGIN:VCALENDAR
VERSION:2.0
PRODID:-//The Horticultural Society of New York - ECPv6.15.15//NONSGML v1.0//EN
CALSCALE:GREGORIAN
METHOD:PUBLISH
X-WR-CALNAME:The Horticultural Society of New York
X-ORIGINAL-URL:https://www.thehort.org
X-WR-CALDESC:Events for The Horticultural Society of New York
REFRESH-INTERVAL;VALUE=DURATION:PT1H
X-Robots-Tag:noindex
X-PUBLISHED-TTL:PT1H
BEGIN:VTIMEZONE
TZID:America/New_York
BEGIN:DAYLIGHT
TZOFFSETFROM:-0500
TZOFFSETTO:-0400
TZNAME:EDT
DTSTART:20220313T070000
END:DAYLIGHT
BEGIN:STANDARD
TZOFFSETFROM:-0400
TZOFFSETTO:-0500
TZNAME:EST
DTSTART:20221106T060000
END:STANDARD
BEGIN:DAYLIGHT
TZOFFSETFROM:-0500
TZOFFSETTO:-0400
TZNAME:EDT
DTSTART:20230312T070000
END:DAYLIGHT
BEGIN:STANDARD
TZOFFSETFROM:-0400
TZOFFSETTO:-0500
TZNAME:EST
DTSTART:20231105T060000
END:STANDARD
BEGIN:DAYLIGHT
TZOFFSETFROM:-0500
TZOFFSETTO:-0400
TZNAME:EDT
DTSTART:20240310T070000
END:DAYLIGHT
BEGIN:STANDARD
TZOFFSETFROM:-0400
TZOFFSETTO:-0500
TZNAME:EST
DTSTART:20241103T060000
END:STANDARD
END:VTIMEZONE
BEGIN:VEVENT
DTSTART;TZID=America/New_York:20230805T140000
DTEND;TZID=America/New_York:20230805T160000
DTSTAMP:20260420T164929
CREATED:20230721T182106Z
LAST-MODIFIED:20230721T182106Z
UID:10000604-1691244000-1691251200@www.thehort.org
SUMMARY:Plant Programming at Beverly rd.
DESCRIPTION:Join us at Beverly rd. on Saturday\, 8/5/2023 from 2pm-4pm for a plant-based programming! \nThis event is free and open to all. No registration required. \nAs all events are outdoors they are subject to cancellation based on weather\, permitting\, and logistics.
URL:https://www.thehort.org/event/plant-programming-at-beverly-rd/
LOCATION:Beverly Road\, E 2nd St & Beverley Rd\, Brooklyn\, NY\, 11218
CATEGORIES:Public Program
ATTACH;FMTTYPE=image/png:https://www.thehort.org/wp-content/uploads/2023/04/little-girl-planting.png
END:VEVENT
BEGIN:VEVENT
DTSTART;TZID=America/New_York:20230715T140000
DTEND;TZID=America/New_York:20230715T160000
DTSTAMP:20260420T164929
CREATED:20230707T173926Z
LAST-MODIFIED:20230714T225136Z
UID:10000590-1689429600-1689436800@www.thehort.org
SUMMARY:Plant programming at Beverly Road Open Street
DESCRIPTION:Join us at Graham Beverly Road Open Street on Saturday\, 7/15/2023 from 2pm-4pm for a plant programming workshop! \nAs all events are outdoors\, they are subject to cancellation based on weather\, permitting\, and logistics.
URL:https://www.thehort.org/event/plant-giveaway-at-beverly-road-open-street/
LOCATION:Beverly Road\, E 2nd St & Beverley Rd\, Brooklyn\, NY\, 11218
ATTACH;FMTTYPE=image/png:https://www.thehort.org/wp-content/uploads/2023/04/OS-Giveaway2.png
END:VEVENT
BEGIN:VEVENT
DTSTART;TZID=America/New_York:20230617T130000
DTEND;TZID=America/New_York:20230617T150000
DTSTAMP:20260420T164929
CREATED:20230531T152835Z
LAST-MODIFIED:20230531T152835Z
UID:10000459-1687006800-1687014000@www.thehort.org
SUMMARY:PLANT PROGRAMMING
DESCRIPTION:Join us at Beverly Road on Saturday\, 6/17/2023 from 1pm-3pm for plant programming! \nThis event is free and open to all. No registration required. \nAs all events are outdoors\, they are subject to cancellation based on weather\, permitting\, and logistics.
URL:https://www.thehort.org/event/plant-programming-4/
LOCATION:Beverly Road\, E 2nd St & Beverley Rd\, Brooklyn\, NY\, 11218
ATTACH;FMTTYPE=image/png:https://www.thehort.org/wp-content/uploads/2023/04/OSgiveaway-2.png
END:VEVENT
BEGIN:VEVENT
DTSTART;TZID=America/New_York:20230422T140000
DTEND;TZID=America/New_York:20230422T160000
DTSTAMP:20260420T164929
CREATED:20230414T180118Z
LAST-MODIFIED:20230417T155722Z
UID:10000371-1682172000-1682179200@www.thehort.org
SUMMARY:Earth Day at Beverly Road
DESCRIPTION:Join us for Earth Day! We’ll be making lavender sachets at Beverly Road from 2-4pm. This event is free and open to all. No registration required.
URL:https://www.thehort.org/event/earth-day-at-beverly-road/
LOCATION:Beverly Road\, E 2nd St & Beverley Rd\, Brooklyn\, NY\, 11218
CATEGORIES:Events
ATTACH;FMTTYPE=image/png:https://www.thehort.org/wp-content/uploads/2023/04/OSgiveaway-.png
END:VEVENT
END:VCALENDAR