BEGIN:VCALENDAR
VERSION:2.0
PRODID:-//The Horticultural Society of New York - ECPv6.15.15//NONSGML v1.0//EN
CALSCALE:GREGORIAN
METHOD:PUBLISH
X-WR-CALNAME:The Horticultural Society of New York
X-ORIGINAL-URL:https://www.thehort.org
X-WR-CALDESC:Events for The Horticultural Society of New York
REFRESH-INTERVAL;VALUE=DURATION:PT1H
X-Robots-Tag:noindex
X-PUBLISHED-TTL:PT1H
BEGIN:VTIMEZONE
TZID:America/New_York
BEGIN:DAYLIGHT
TZOFFSETFROM:-0500
TZOFFSETTO:-0400
TZNAME:EDT
DTSTART:20220313T070000
END:DAYLIGHT
BEGIN:STANDARD
TZOFFSETFROM:-0400
TZOFFSETTO:-0500
TZNAME:EST
DTSTART:20221106T060000
END:STANDARD
BEGIN:DAYLIGHT
TZOFFSETFROM:-0500
TZOFFSETTO:-0400
TZNAME:EDT
DTSTART:20230312T070000
END:DAYLIGHT
BEGIN:STANDARD
TZOFFSETFROM:-0400
TZOFFSETTO:-0500
TZNAME:EST
DTSTART:20231105T060000
END:STANDARD
BEGIN:DAYLIGHT
TZOFFSETFROM:-0500
TZOFFSETTO:-0400
TZNAME:EDT
DTSTART:20240310T070000
END:DAYLIGHT
BEGIN:STANDARD
TZOFFSETFROM:-0400
TZOFFSETTO:-0500
TZNAME:EST
DTSTART:20241103T060000
END:STANDARD
BEGIN:DAYLIGHT
TZOFFSETFROM:-0500
TZOFFSETTO:-0400
TZNAME:EDT
DTSTART:20250309T070000
END:DAYLIGHT
BEGIN:STANDARD
TZOFFSETFROM:-0400
TZOFFSETTO:-0500
TZNAME:EST
DTSTART:20251102T060000
END:STANDARD
END:VTIMEZONE
BEGIN:VEVENT
DTSTART;TZID=America/New_York:20241002T140000
DTEND;TZID=America/New_York:20241002T160000
DTSTAMP:20260421T182308
CREATED:20241001T130951Z
LAST-MODIFIED:20241001T130951Z
UID:10001962-1727877600-1727884800@www.thehort.org
SUMMARY:Getting Down to Bees-ness at 34th Ave in Queens
DESCRIPTION:Join us at 34th Ave and 78th Street on Wednesday\, 10/2/2024 from 2-4pm for plant-focused programming. \nThis event is free and open to all. No registration required. \nAs all events are outdoors they are subject to cancellation based on weather\, permitting\, and logistics.
URL:https://www.thehort.org/event/getting-down-to-bees-ness-at-34th-ave-in-queens/
LOCATION:34th Ave Open Street & 78th\, 34th Ave & 78th\, Queens\, NY\, 11372\, United States
CATEGORIES:Public Program
ATTACH;FMTTYPE=image/png:https://www.thehort.org/wp-content/uploads/2024/07/3.png
END:VEVENT
BEGIN:VEVENT
DTSTART;TZID=America/New_York:20240816T140000
DTEND;TZID=America/New_York:20240816T160000
DTSTAMP:20260421T182308
CREATED:20240808T143714Z
LAST-MODIFIED:20240808T143714Z
UID:10001940-1723816800-1723824000@www.thehort.org
SUMMARY:Grow Your Own Microgreens at 34th Ave Open Street in Queens
DESCRIPTION:Join us at 34th Ave Open Street on Friday\, 8/16/2024 from 2pm-4pm for summer plant-focused programming. \nThis event is free and open to all. No registration required. \nAs all events are outdoors they are subject to cancellation based on weather\, permitting\, and logistics.
URL:https://www.thehort.org/event/grow-your-own-microgreens-at-34th-ave-open-street-in-queens/
LOCATION:34th Ave Open Street & 78th\, 34th Ave & 78th\, Queens\, NY\, 11372\, United States
ATTACH;FMTTYPE=image/png:https://www.thehort.org/wp-content/uploads/2024/07/3.png
END:VEVENT
BEGIN:VEVENT
DTSTART;TZID=America/New_York:20230817T140000
DTEND;TZID=America/New_York:20230817T160000
DTSTAMP:20260421T182308
CREATED:20230802T202303Z
LAST-MODIFIED:20230814T124957Z
UID:10000617-1692280800-1692288000@www.thehort.org
SUMMARY:Plant-based programming at 34th Ave
DESCRIPTION:Join us at 34th at 79th -80th St on Thursday\, 8/17/2023 from 2-4pm for a plant-based program!\n\nThis event is free and open to all. No registration required. \nAs all events are outdoors they are subject to cancellation based on weather\, permitting\, and logistics
URL:https://www.thehort.org/event/plant-based-programming-at-34th-ave/
LOCATION:34th Ave Open Street & 78th\, 34th Ave & 78th\, Queens\, NY\, 11372\, United States
CATEGORIES:Events,Public Program,Workshop
ATTACH;FMTTYPE=image/png:https://www.thehort.org/wp-content/uploads/2023/04/OSgiveaway-3-1.png
END:VEVENT
END:VCALENDAR